BEGIN:VCALENDAR
VERSION:2.0
PRODID:-//Sankofa - ECPv6.15.20//NONSGML v1.0//EN
CALSCALE:GREGORIAN
METHOD:PUBLISH
X-ORIGINAL-URL:https://sankofanola.org
X-WR-CALDESC:Events for Sankofa
REFRESH-INTERVAL;VALUE=DURATION:PT1H
X-Robots-Tag:noindex
X-PUBLISHED-TTL:PT1H
BEGIN:VTIMEZONE
TZID:UTC
BEGIN:STANDARD
TZOFFSETFROM:+0000
TZOFFSETTO:+0000
TZNAME:UTC
DTSTART:20250101T000000
END:STANDARD
END:VTIMEZONE
BEGIN:VEVENT
DTSTART;TZID=UTC:20260119T100000
DTEND;TZID=UTC:20260119T130000
DTSTAMP:20260423T230150
CREATED:20260108T233201Z
LAST-MODIFIED:20260112T180636Z
UID:5084-1768816800-1768827600@sankofanola.org
SUMMARY:MLK Day of Service
DESCRIPTION:
URL:https://sankofanola.org/event/mlk-day-of-service/
LOCATION:Sankofa Wetland Park & Nature Trail\, 6401 Florida Ave\, New Orleans\, LA\, 70117\, United States
CATEGORIES:Events
ORGANIZER;CN="Sankofa CDC":MAILTO:info@sankofanola.org
END:VEVENT
END:VCALENDAR