BEGIN:VCALENDAR
VERSION:2.0
PRODID:-//Sankofa - ECPv6.15.20//NONSGML v1.0//EN
CALSCALE:GREGORIAN
METHOD:PUBLISH
X-ORIGINAL-URL:https://sankofanola.org
X-WR-CALDESC:Events for Sankofa
REFRESH-INTERVAL;VALUE=DURATION:PT1H
X-Robots-Tag:noindex
X-PUBLISHED-TTL:PT1H
BEGIN:VTIMEZONE
TZID:America/Chicago
BEGIN:DAYLIGHT
TZOFFSETFROM:-0600
TZOFFSETTO:-0500
TZNAME:CDT
DTSTART:20210314T080000
END:DAYLIGHT
BEGIN:STANDARD
TZOFFSETFROM:-0500
TZOFFSETTO:-0600
TZNAME:CST
DTSTART:20211107T070000
END:STANDARD
BEGIN:DAYLIGHT
TZOFFSETFROM:-0600
TZOFFSETTO:-0500
TZNAME:CDT
DTSTART:20220313T080000
END:DAYLIGHT
BEGIN:STANDARD
TZOFFSETFROM:-0500
TZOFFSETTO:-0600
TZNAME:CST
DTSTART:20221106T070000
END:STANDARD
BEGIN:DAYLIGHT
TZOFFSETFROM:-0600
TZOFFSETTO:-0500
TZNAME:CDT
DTSTART:20230312T080000
END:DAYLIGHT
BEGIN:STANDARD
TZOFFSETFROM:-0500
TZOFFSETTO:-0600
TZNAME:CST
DTSTART:20231105T070000
END:STANDARD
BEGIN:DAYLIGHT
TZOFFSETFROM:-0600
TZOFFSETTO:-0500
TZNAME:CDT
DTSTART:20240310T080000
END:DAYLIGHT
BEGIN:STANDARD
TZOFFSETFROM:-0500
TZOFFSETTO:-0600
TZNAME:CST
DTSTART:20241103T070000
END:STANDARD
END:VTIMEZONE
BEGIN:VTIMEZONE
TZID:UTC
BEGIN:STANDARD
TZOFFSETFROM:+0000
TZOFFSETTO:+0000
TZNAME:UTC
DTSTART:20220101T000000
END:STANDARD
END:VTIMEZONE
BEGIN:VEVENT
DTSTART;TZID=America/Chicago:20230211T090000
DTEND;TZID=America/Chicago:20230211T130000
DTSTAMP:20260423T213942
CREATED:20220930T161446Z
LAST-MODIFIED:20230118T011929Z
UID:3774-1676106000-1676120400@sankofanola.org
SUMMARY:Second Saturday Volunteer Day | Wetland Park
DESCRIPTION:Volunteers help with the maintenance of the Wetland Park. Assisting staff with the removal of invasive plants\, park cleanup\, and the planting of Louisiana Native trees are all a part of this fun day of activities. Your volunteer efforts help us to greatly increase the  ability to provide a rich wetland habitat where wildlife can thrive along with a  beautiful natural setting for the community to enjoy.
URL:https://sankofanola.org/event/second-saturday-volunteer/
LOCATION:Sankofa Wetland Park & Nature Trail\, 6401 Florida Ave\, New Orleans\, LA\, 70117\, United States
CATEGORIES:Outdoor
ORGANIZER;CN="Sankofa Wetland Park & Nature Trail":MAILTO:wetlandpark@sankofanola.org
END:VEVENT
BEGIN:VEVENT
DTSTART;TZID=UTC:20230204T093000
DTEND;TZID=UTC:20230204T103000
DTSTAMP:20260423T213942
CREATED:20221220T201356Z
LAST-MODIFIED:20230109T162859Z
UID:4029-1675503000-1675506600@sankofanola.org
SUMMARY:Easy Flow Yoga at the Park
DESCRIPTION:A local and affordable way to get healthy both mentally and physically.
URL:https://sankofanola.org/event/easy-flow-yoga-at-the-park/
LOCATION:Sankofa Wetland Park & Nature Trail\, 6401 Florida Ave\, New Orleans\, LA\, 70117\, United States
CATEGORIES:Outdoor
ORGANIZER;CN="Sankofa Wetland Park & Nature Trail":MAILTO:wetlandpark@sankofanola.org
END:VEVENT
BEGIN:VEVENT
DTSTART;TZID=UTC:20230116T090000
DTEND;TZID=UTC:20230116T140000
DTSTAMP:20260423T213942
CREATED:20221220T201208Z
LAST-MODIFIED:20230110T192605Z
UID:4031-1673859600-1673877600@sankofanola.org
SUMMARY:Martin Luther King Day of Service
DESCRIPTION:MLK Day of Service is to honor the life and legacy of Dr. King. He is one of the roots that fed into what has become an environmental movement that shifted away from an “almost exclusive focus on wilderness protection and preservation and toward urban life\, public health\, and Black experience\,” said Norman Wirzba\, a professor of theology at the Duke University Divinity School. In other words\, the environment is wherever all people live and work\, Wirzba said. 
URL:https://sankofanola.org/event/mlkdayofservice/
LOCATION:Sankofa Wetland Park & Nature Trail\, 6401 Florida Ave\, New Orleans\, LA\, 70117\, United States
CATEGORIES:Outdoor
ORGANIZER;CN="Sankofa Wetland Park & Nature Trail":MAILTO:wetlandpark@sankofanola.org
END:VEVENT
BEGIN:VEVENT
DTSTART;TZID=America/Chicago:20230114T090000
DTEND;TZID=America/Chicago:20230114T110000
DTSTAMP:20260423T213942
CREATED:20221028T160636Z
LAST-MODIFIED:20230109T160750Z
UID:3869-1673686800-1673694000@sankofanola.org
SUMMARY:Bird Hike with Dr. Peter Yaukey
DESCRIPTION:Bring your binoculars for this educational birding hike with Ornithologist Dr. Yaukey. You will be amazed at all the different species of birds there are in the Lower 9! \nBirders of all ages are welcome!
URL:https://sankofanola.org/event/bird-hike-with-dr-peter-yaukey/
LOCATION:Sankofa Wetland Park & Nature Trail\, 6401 Florida Ave\, New Orleans\, LA\, 70117\, United States
CATEGORIES:Outdoor
ORGANIZER;CN="Sankofa Wetland Park & Nature Trail":MAILTO:wetlandpark@sankofanola.org
END:VEVENT
BEGIN:VEVENT
DTSTART;TZID=America/Chicago:20221119T090000
DTEND;TZID=America/Chicago:20221119T110000
DTSTAMP:20260423T213942
CREATED:20221021T163256Z
LAST-MODIFIED:20221021T163340Z
UID:3856-1668848400-1668855600@sankofanola.org
SUMMARY:Family Fishing
DESCRIPTION:This free fishing program is an opportunity for youth aged 8-15 to learn from and connect with seniors in our community. All fishing equipment is provided\, along with snacks and drinks. \nTo register visit our Eventbrite
URL:https://sankofanola.org/event/family-fishing/
LOCATION:Sankofa Wetland Park & Nature Trail\, 6401 Florida Ave\, New Orleans\, LA\, 70117\, United States
CATEGORIES:Beginners,Children,Outdoor,Workshop
ORGANIZER;CN="Sankofa Wetland Park & Nature Trail":MAILTO:wetlandpark@sankofanola.org
END:VEVENT
BEGIN:VEVENT
DTSTART;TZID=America/Chicago:20221029T100000
DTEND;TZID=America/Chicago:20221029T120000
DTSTAMP:20260423T213942
CREATED:20221011T170933Z
LAST-MODIFIED:20221011T171012Z
UID:3821-1667037600-1667044800@sankofanola.org
SUMMARY:Native Pollinator Plants of the Gulf Coast
DESCRIPTION:Join us to learn the importance of conserving Louisiana’s fragile exosystem and how to support it by growing native plants that attract beneficial pollinators. Each participant will take home a native pollinator plant. \n  \nTo register please visit Eventbrite.com
URL:https://sankofanola.org/event/native-pollinator-plants-of-the-gulf-coast/
LOCATION:Sankofa Community Garden\, 27 St Claude Ct\, New Orleans\, LA\, 70117\, United States
CATEGORIES:Outdoor,Workshop
ORGANIZER;CN="Sankofa CDC":MAILTO:info@sankofanola.org
END:VEVENT
BEGIN:VEVENT
DTSTART;TZID=America/Chicago:20221026T170000
DTEND;TZID=America/Chicago:20221026T180000
DTSTAMP:20260423T213942
CREATED:20221011T145137Z
LAST-MODIFIED:20221011T145210Z
UID:3811-1666803600-1666807200@sankofanola.org
SUMMARY:Backyard Composting - How to Utilize Compost
DESCRIPTION:Come and join us to learn how to build\, start and maintain your own compost pile in your backyard or office to cut down on food waste and reduce landfill dependency. \nIn this workshop\, you will learn how to tell when your compost is ready\, how to mulch with it\, and how to use it on inside and outside plants. \nPlease use Eventbrite.com to register.
URL:https://sankofanola.org/event/backyard-composting-how-to-utilize-compost/
LOCATION:Sankofa Community Garden\, 27 St Claude Ct\, New Orleans\, LA\, 70117\, United States
CATEGORIES:Outdoor,Workshop
ORGANIZER;CN="Sankofa CDC":MAILTO:info@sankofanola.org
END:VEVENT
BEGIN:VEVENT
DTSTART;TZID=America/Chicago:20221022T100000
DTEND;TZID=America/Chicago:20221022T120000
DTSTAMP:20260423T213942
CREATED:20221011T165652Z
LAST-MODIFIED:20221011T165652Z
UID:3819-1666432800-1666440000@sankofanola.org
SUMMARY:Basics of at At Home Vermiculture
DESCRIPTION:Learn about the process of Vermiculture- using worms to turn food scraps into the best fertilizer on earth! Vermicomposting is a great way to compost for people who don’t have yard waste\, live in apartments\, or condominiums\, or do not have a backyard. The worms do most of the work so it would also be an easy method for someone who doesn’t have the strength to do regular composting with yard waste. Every participant will get a bag of worms to start their own vermicomposting bin! \n  \nTo register visit Eventbrite.com
URL:https://sankofanola.org/event/basics-of-at-at-home-vermiculture/
LOCATION:Sankofa Community Garden\, 27 St Claude Ct\, New Orleans\, LA\, 70117\, United States
CATEGORIES:Outdoor,Workshop
ORGANIZER;CN="Sankofa CDC":MAILTO:info@sankofanola.org
END:VEVENT
BEGIN:VEVENT
DTSTART;TZID=America/Chicago:20221015T100000
DTEND;TZID=America/Chicago:20221015T120000
DTSTAMP:20260423T213942
CREATED:20221011T154921Z
LAST-MODIFIED:20221011T154921Z
UID:3813-1665828000-1665835200@sankofanola.org
SUMMARY:Building Soils for At-Home Use
DESCRIPTION:Come and join us as we explore the topic of Building Soils. We will learn about soil fertility and management\, composting\, regeneration\, and how to build soils for in-ground as well as pots. Healthy soil is not only imperative for our food and climate security – but it is also foundational for our cultural and emotional well-being. \nAt the end of the workshop\, there will be a take-home plant from our garden! \nPlease use Eventbrite.com to register.
URL:https://sankofanola.org/event/building-soils-for-at-home-use/
LOCATION:Sankofa Community Garden\, 27 St Claude Ct\, New Orleans\, LA\, 70117\, United States
CATEGORIES:Outdoor,Workshop
ORGANIZER;CN="Sankofa CDC":MAILTO:info@sankofanola.org
END:VEVENT
END:VCALENDAR