BEGIN:VCALENDAR
VERSION:2.0
PRODID:-//Sankofa - ECPv6.15.20//NONSGML v1.0//EN
CALSCALE:GREGORIAN
METHOD:PUBLISH
X-WR-CALNAME:Sankofa
X-ORIGINAL-URL:https://sankofanola.org
X-WR-CALDESC:Events for Sankofa
REFRESH-INTERVAL;VALUE=DURATION:PT1H
X-Robots-Tag:noindex
X-PUBLISHED-TTL:PT1H
BEGIN:VTIMEZONE
TZID:UTC
BEGIN:STANDARD
TZOFFSETFROM:+0000
TZOFFSETTO:+0000
TZNAME:UTC
DTSTART:20240101T000000
END:STANDARD
END:VTIMEZONE
BEGIN:VEVENT
DTSTART;TZID=UTC:20251213T090000
DTEND;TZID=UTC:20251213T110000
DTSTAMP:20260424T101714
CREATED:20251212T172223Z
LAST-MODIFIED:20251212T172602Z
UID:5044-1765616400-1765623600@sankofanola.org
SUMMARY:STEM Second Saturday at Sankofa Wetland Park and Nature Trail
DESCRIPTION:
URL:https://sankofanola.org/event/stem-second-saturday-at-sankofa-wetland-park-and-nature-trail/
LOCATION:Sankofa Wetland Park & Nature Trail\, 6401 Florida Ave\, New Orleans\, LA\, 70117\, United States
CATEGORIES:Workshop
ATTACH;FMTTYPE=image/png:https://sankofanola.org/wp-content/uploads/2025/12/Second-Saturday-Dr.-Yaukey-1.png
ORGANIZER;CN="Sankofa CDC":MAILTO:info@sankofanola.org
END:VEVENT
BEGIN:VEVENT
DTSTART;TZID=UTC:20251213T100000
DTEND;TZID=UTC:20251213T140000
DTSTAMP:20260424T101714
CREATED:20251125T152843Z
LAST-MODIFIED:20251203T163550Z
UID:5002-1765620000-1765634400@sankofanola.org
SUMMARY:Gingerbread House Party
DESCRIPTION:Please fill free to register for the Gingerbread House Party
URL:https://sankofanola.org/event/gingerbread-house-party/
LOCATION:LA
CATEGORIES:Workshop
ATTACH;FMTTYPE=image/jpeg:https://sankofanola.org/wp-content/uploads/2025/11/Gingerbread-House-Party-2025-Fresh-Start-Market-11.20.2025-10.5-x-6.25-in-6-x-4-in.jpg
ORGANIZER;CN="Sankofa CDC":MAILTO:info@sankofanola.org
END:VEVENT
BEGIN:VEVENT
DTSTART;TZID=UTC:20260110T090000
DTEND;TZID=UTC:20260110T120000
DTSTAMP:20260424T101714
CREATED:20260108T205752Z
LAST-MODIFIED:20260108T205752Z
UID:5081-1768035600-1768046400@sankofanola.org
SUMMARY:STEM Second Saturdays
DESCRIPTION:Join us for STEM Second Saturdays at Sankofa Wetland Park and Nature Trail.
URL:https://sankofanola.org/event/stem-second-saturdays/
LOCATION:Sankofa Wetland Park & Nature Trail\, 6401 Florida Ave\, New Orleans\, LA\, 70117\, United States
CATEGORIES:Workshop
ORGANIZER;CN="Sankofa CDC":MAILTO:info@sankofanola.org
END:VEVENT
BEGIN:VEVENT
DTSTART;TZID=UTC:20260119T100000
DTEND;TZID=UTC:20260119T130000
DTSTAMP:20260424T101714
CREATED:20260108T233201Z
LAST-MODIFIED:20260112T180636Z
UID:5084-1768816800-1768827600@sankofanola.org
SUMMARY:MLK Day of Service
DESCRIPTION:
URL:https://sankofanola.org/event/mlk-day-of-service/
LOCATION:Sankofa Wetland Park & Nature Trail\, 6401 Florida Ave\, New Orleans\, LA\, 70117\, United States
CATEGORIES:Events
ORGANIZER;CN="Sankofa CDC":MAILTO:info@sankofanola.org
END:VEVENT
BEGIN:VEVENT
DTSTART;TZID=UTC:20260314T090000
DTEND;TZID=UTC:20260314T120000
DTSTAMP:20260424T101714
CREATED:20260108T233639Z
LAST-MODIFIED:20260108T233639Z
UID:5088-1773478800-1773489600@sankofanola.org
SUMMARY:STEM Second Saturdays
DESCRIPTION:
URL:https://sankofanola.org/event/stem-second-saturdays-3/
LOCATION:Sankofa Wetland Park & Nature Trail\, 6401 Florida Ave\, New Orleans\, LA\, 70117\, United States
ORGANIZER;CN="Sankofa CDC":MAILTO:info@sankofanola.org
END:VEVENT
BEGIN:VEVENT
DTSTART;TZID=UTC:20260411T090000
DTEND;TZID=UTC:20260411T120000
DTSTAMP:20260424T101714
CREATED:20260108T233826Z
LAST-MODIFIED:20260108T233826Z
UID:5090-1775898000-1775908800@sankofanola.org
SUMMARY:STEM Second Saturdays
DESCRIPTION:
URL:https://sankofanola.org/event/stem-second-saturdays-4/
LOCATION:Sankofa Wetland Park & Nature Trail\, 6401 Florida Ave\, New Orleans\, LA\, 70117\, United States
ORGANIZER;CN="Sankofa CDC":MAILTO:info@sankofanola.org
END:VEVENT
BEGIN:VEVENT
DTSTART;TZID=UTC:20260509T100000
DTEND;TZID=UTC:20260509T140000
DTSTAMP:20260424T101714
CREATED:20260410T173649Z
LAST-MODIFIED:20260423T141014Z
UID:5225-1778320800-1778335200@sankofanola.org
SUMMARY:Bayou Fest
DESCRIPTION:Celebrate New Orleans culture and the great outdoors at Bayou Fest! Enjoy birdwatching\, kayaking\, fishing\, horseback riding\, STEM fun\, and free crawfish while it lasts.
URL:https://sankofanola.org/event/bayou-fest/
LOCATION:Sankofa Wetland Park & Nature Trail\, 6401 Florida Ave\, New Orleans\, LA\, 70117\, United States
ORGANIZER;CN="Sankofa CDC":MAILTO:info@sankofanola.org
END:VEVENT
BEGIN:VEVENT
DTSTART;TZID=UTC:20260613T090000
DTEND;TZID=UTC:20260613T120000
DTSTAMP:20260424T101714
CREATED:20260108T234206Z
LAST-MODIFIED:20260108T234206Z
UID:5094-1781341200-1781352000@sankofanola.org
SUMMARY:STEM Second Saturdays
DESCRIPTION:
URL:https://sankofanola.org/event/stem-second-saturdays-6/
LOCATION:Sankofa Wetland Park & Nature Trail\, 6401 Florida Ave\, New Orleans\, LA\, 70117\, United States
ORGANIZER;CN="Sankofa CDC":MAILTO:info@sankofanola.org
END:VEVENT
END:VCALENDAR