BEGIN:VCALENDAR
VERSION:2.0
PRODID:-//Sankofa - ECPv6.15.20//NONSGML v1.0//EN
CALSCALE:GREGORIAN
METHOD:PUBLISH
X-ORIGINAL-URL:https://sankofanola.org
X-WR-CALDESC:Events for Sankofa
REFRESH-INTERVAL;VALUE=DURATION:PT1H
X-Robots-Tag:noindex
X-PUBLISHED-TTL:PT1H
BEGIN:VTIMEZONE
TZID:America/Chicago
BEGIN:DAYLIGHT
TZOFFSETFROM:-0600
TZOFFSETTO:-0500
TZNAME:CDT
DTSTART:20210314T080000
END:DAYLIGHT
BEGIN:STANDARD
TZOFFSETFROM:-0500
TZOFFSETTO:-0600
TZNAME:CST
DTSTART:20211107T070000
END:STANDARD
BEGIN:DAYLIGHT
TZOFFSETFROM:-0600
TZOFFSETTO:-0500
TZNAME:CDT
DTSTART:20220313T080000
END:DAYLIGHT
BEGIN:STANDARD
TZOFFSETFROM:-0500
TZOFFSETTO:-0600
TZNAME:CST
DTSTART:20221106T070000
END:STANDARD
BEGIN:DAYLIGHT
TZOFFSETFROM:-0600
TZOFFSETTO:-0500
TZNAME:CDT
DTSTART:20230312T080000
END:DAYLIGHT
BEGIN:STANDARD
TZOFFSETFROM:-0500
TZOFFSETTO:-0600
TZNAME:CST
DTSTART:20231105T070000
END:STANDARD
END:VTIMEZONE
BEGIN:VEVENT
DTSTART;TZID=America/Chicago:20221008T100000
DTEND;TZID=America/Chicago:20221008T120000
DTSTAMP:20260423T200641
CREATED:20220930T155405Z
LAST-MODIFIED:20220930T155405Z
UID:3770-1665223200-1665230400@sankofanola.org
SUMMARY:Winter Veggie Gardening with Pots
DESCRIPTION:Join us at Sankofa Community Garden to learn how to grow winter vegetables in a small space using a pot. Each participant will receive a grow pot and learn about the benefits of utilizing this tool to grow in small spaces like a New Orleans porch.
URL:https://sankofanola.org/event/winter-veggie-gardening-with-pots/
LOCATION:Sankofa Community Garden\, 27 St Claude Ct\, New Orleans\, LA\, 70117\, United States
END:VEVENT
BEGIN:VEVENT
DTSTART;TZID=America/Chicago:20221001T100000
DTEND;TZID=America/Chicago:20221001T120000
DTSTAMP:20260423T200641
CREATED:20220929T203146Z
LAST-MODIFIED:20220929T203146Z
UID:3757-1664618400-1664625600@sankofanola.org
SUMMARY:The Journey of Black Seeds: The culture of African-centered gardening traditions
DESCRIPTION:Join us for a fireside chat about plants brought to America during the African Diaspora and the legacies of gardening in the black community. Immediately following plant varieties\, give away that you might want to grow and discuss seasonal appropriateness and planting instructions! \nTo register visit eventbrite.com \n 
URL:https://sankofanola.org/event/the-journey-of-black-seeds-the-culture-of-african-centered-gardening-traditions/
LOCATION:Sankofa Community Garden\, 27 St Claude Ct\, New Orleans\, LA\, 70117\, United States
ORGANIZER;CN="Sankofa CDC":MAILTO:info@sankofanola.org
END:VEVENT
BEGIN:VEVENT
DTSTART;TZID=America/Chicago:20221001T093000
DTEND;TZID=America/Chicago:20221001T103000
DTSTAMP:20260423T200641
CREATED:20220929T205257Z
LAST-MODIFIED:20220930T163943Z
UID:3765-1664616600-1664620200@sankofanola.org
SUMMARY:Easy Flow Yoga
DESCRIPTION:Join Sama Yoga at Sankofa Wetland Park and Nature Trail for Easy Flow Yoga! \nTo Register Visit Samastudio.org
URL:https://sankofanola.org/event/easy-flow-yoga/
LOCATION:Sankofa Wetland Park & Nature Trail\, 6401 Florida Ave\, New Orleans\, LA\, 70117\, United States
ORGANIZER;CN="Sankofa Wetland Park & Nature Trail":MAILTO:wetlandpark@sankofanola.org
END:VEVENT
END:VCALENDAR