BEGIN:VCALENDAR
VERSION:2.0
PRODID:-//Sankofa - ECPv6.15.20//NONSGML v1.0//EN
CALSCALE:GREGORIAN
METHOD:PUBLISH
X-WR-CALNAME:Sankofa
X-ORIGINAL-URL:https://sankofanola.org
X-WR-CALDESC:Events for Sankofa
REFRESH-INTERVAL;VALUE=DURATION:PT1H
X-Robots-Tag:noindex
X-PUBLISHED-TTL:PT1H
BEGIN:VTIMEZONE
TZID:UTC
BEGIN:STANDARD
TZOFFSETFROM:+0000
TZOFFSETTO:+0000
TZNAME:UTC
DTSTART:20250101T000000
END:STANDARD
END:VTIMEZONE
BEGIN:VEVENT
DTSTART;TZID=UTC:20260314T090000
DTEND;TZID=UTC:20260314T120000
DTSTAMP:20260423T182233
CREATED:20260108T233639Z
LAST-MODIFIED:20260108T233639Z
UID:5088-1773478800-1773489600@sankofanola.org
SUMMARY:STEM Second Saturdays
DESCRIPTION:
URL:https://sankofanola.org/event/stem-second-saturdays-3/
LOCATION:Sankofa Wetland Park & Nature Trail\, 6401 Florida Ave\, New Orleans\, LA\, 70117\, United States
ORGANIZER;CN="Sankofa CDC":MAILTO:info@sankofanola.org
END:VEVENT
END:VCALENDAR